BEGIN:VCALENDAR
VERSION:2.0
PRODID:-//Edwards Church of Northampton - ECPv6.15.17.1//NONSGML v1.0//EN
CALSCALE:GREGORIAN
METHOD:PUBLISH
X-ORIGINAL-URL:https://edwardschurchnorthampton.org
X-WR-CALDESC:Events for Edwards Church of Northampton
REFRESH-INTERVAL;VALUE=DURATION:PT1H
X-Robots-Tag:noindex
X-PUBLISHED-TTL:PT1H
BEGIN:VTIMEZONE
TZID:America/New_York
BEGIN:DAYLIGHT
TZOFFSETFROM:-0500
TZOFFSETTO:-0400
TZNAME:EDT
DTSTART:20150308T070000
END:DAYLIGHT
BEGIN:STANDARD
TZOFFSETFROM:-0400
TZOFFSETTO:-0500
TZNAME:EST
DTSTART:20151101T060000
END:STANDARD
BEGIN:DAYLIGHT
TZOFFSETFROM:-0500
TZOFFSETTO:-0400
TZNAME:EDT
DTSTART:20160313T070000
END:DAYLIGHT
BEGIN:STANDARD
TZOFFSETFROM:-0400
TZOFFSETTO:-0500
TZNAME:EST
DTSTART:20161106T060000
END:STANDARD
BEGIN:DAYLIGHT
TZOFFSETFROM:-0500
TZOFFSETTO:-0400
TZNAME:EDT
DTSTART:20170312T070000
END:DAYLIGHT
BEGIN:STANDARD
TZOFFSETFROM:-0400
TZOFFSETTO:-0500
TZNAME:EST
DTSTART:20171105T060000
END:STANDARD
END:VTIMEZONE
BEGIN:VEVENT
DTSTART;TZID=America/New_York:20160516T120000
DTEND;TZID=America/New_York:20160516T133000
DTSTAMP:20260424T202227
CREATED:20160505T143905Z
LAST-MODIFIED:20160505T143959Z
UID:1260-1463400000-1463405400@edwardschurchnorthampton.org
SUMMARY:"The Wisdom of Faith" Film Series
DESCRIPTION:Join us for this five part mini-series with Bill Moyers and Houston Smith\, which explores Hinduism\, Buddhism\, Confucianism\, Christianity\, Judaism\, and Islam. \nMondays: noon – 1:30 p.m.  May 16 & 23\, June 6\, 13\, 20 \nShare this:\n				Email a link to a friend (Opens in new window)\n				Email\n			\n				Share on Facebook (Opens in new window)\n				Facebook\n			\n				Share on X (Opens in new window)\n				X\n			\n				Share on Pinterest (Opens in new window)\n				Pinterest
URL:https://edwardschurchnorthampton.org/event/wisdom-faith-film-series-2/
LOCATION:Edwards Church of Northampton\, 297 Main St.\, Northampton\, MA\, 01060\, United States
CATEGORIES:Faith Formation
END:VEVENT
BEGIN:VEVENT
DTSTART;TZID=America/New_York:20160510T190000
DTEND;TZID=America/New_York:20160510T203000
DTSTAMP:20260424T202227
CREATED:20160505T143352Z
LAST-MODIFIED:20160609T140645Z
UID:1255-1462906800-1462912200@edwardschurchnorthampton.org
SUMMARY:"The Wisdom of Faith" Film Series
DESCRIPTION:Join us for this five part mini-series with Bill Moyers and Houston Smith\, which explores Hinduism\, Buddhism\, Confucianism\, Christianity\, Judaism\, and Islam.\nTuesdays: 7 – 8:30 p.m. May 10\, 24\, 31\, June 7 \nShare this:\n				Email a link to a friend (Opens in new window)\n				Email\n			\n				Share on Facebook (Opens in new window)\n				Facebook\n			\n				Share on X (Opens in new window)\n				X\n			\n				Share on Pinterest (Opens in new window)\n				Pinterest
URL:https://edwardschurchnorthampton.org/event/wisdom-faith-film-series/
LOCATION:Edwards Church of Northampton\, 297 Main St.\, Northampton\, MA\, 01060\, United States
CATEGORIES:Faith Formation
END:VEVENT
BEGIN:VEVENT
DTSTART;TZID=America/New_York:20160415T190000
DTEND;TZID=America/New_York:20160416T080000
DTSTAMP:20260424T202227
CREATED:20160404T182543Z
LAST-MODIFIED:20160412T134657Z
UID:870-1460746800-1460793600@edwardschurchnorthampton.org
SUMMARY:Youth Group Overnight
DESCRIPTION:Youth Group overnight at the church!  Please plan to arrive by 7:15.  Movie & discussion\, games\, labyrinth walk\, food and fellowship. \n  \nShare this:\n				Email a link to a friend (Opens in new window)\n				Email\n			\n				Share on Facebook (Opens in new window)\n				Facebook\n			\n				Share on X (Opens in new window)\n				X\n			\n				Share on Pinterest (Opens in new window)\n				Pinterest
URL:https://edwardschurchnorthampton.org/event/forming-faith-2/
LOCATION:MA
CATEGORIES:Faith Formation
END:VEVENT
END:VCALENDAR