BEGIN:VCALENDAR
VERSION:2.0
PRODID:-//Edwards Church of Northampton - ECPv6.15.17.1//NONSGML v1.0//EN
CALSCALE:GREGORIAN
METHOD:PUBLISH
X-WR-CALNAME:Edwards Church of Northampton
X-ORIGINAL-URL:https://edwardschurchnorthampton.org
X-WR-CALDESC:Events for Edwards Church of Northampton
REFRESH-INTERVAL;VALUE=DURATION:PT1H
X-Robots-Tag:noindex
X-PUBLISHED-TTL:PT1H
BEGIN:VTIMEZONE
TZID:America/New_York
BEGIN:DAYLIGHT
TZOFFSETFROM:-0500
TZOFFSETTO:-0400
TZNAME:EDT
DTSTART:20150308T070000
END:DAYLIGHT
BEGIN:STANDARD
TZOFFSETFROM:-0400
TZOFFSETTO:-0500
TZNAME:EST
DTSTART:20151101T060000
END:STANDARD
BEGIN:DAYLIGHT
TZOFFSETFROM:-0500
TZOFFSETTO:-0400
TZNAME:EDT
DTSTART:20160313T070000
END:DAYLIGHT
BEGIN:STANDARD
TZOFFSETFROM:-0400
TZOFFSETTO:-0500
TZNAME:EST
DTSTART:20161106T060000
END:STANDARD
BEGIN:DAYLIGHT
TZOFFSETFROM:-0500
TZOFFSETTO:-0400
TZNAME:EDT
DTSTART:20170312T070000
END:DAYLIGHT
BEGIN:STANDARD
TZOFFSETFROM:-0400
TZOFFSETTO:-0500
TZNAME:EST
DTSTART:20171105T060000
END:STANDARD
BEGIN:DAYLIGHT
TZOFFSETFROM:-0500
TZOFFSETTO:-0400
TZNAME:EDT
DTSTART:20180311T070000
END:DAYLIGHT
BEGIN:STANDARD
TZOFFSETFROM:-0400
TZOFFSETTO:-0500
TZNAME:EST
DTSTART:20181104T060000
END:STANDARD
BEGIN:DAYLIGHT
TZOFFSETFROM:-0500
TZOFFSETTO:-0400
TZNAME:EDT
DTSTART:20190310T070000
END:DAYLIGHT
BEGIN:STANDARD
TZOFFSETFROM:-0400
TZOFFSETTO:-0500
TZNAME:EST
DTSTART:20191103T060000
END:STANDARD
BEGIN:DAYLIGHT
TZOFFSETFROM:-0500
TZOFFSETTO:-0400
TZNAME:EDT
DTSTART:20200308T070000
END:DAYLIGHT
BEGIN:STANDARD
TZOFFSETFROM:-0400
TZOFFSETTO:-0500
TZNAME:EST
DTSTART:20201101T060000
END:STANDARD
END:VTIMEZONE
BEGIN:VEVENT
DTSTART;TZID=America/New_York:20191222T100000
DTEND;TZID=America/New_York:20191222T110000
DTSTAMP:20260424T113448
CREATED:20191121T140337Z
LAST-MODIFIED:20191121T140337Z
UID:7900-1577008800-1577012400@edwardschurchnorthampton.org
SUMMARY:Festival of Lessons and Carols
DESCRIPTION:In the tradition of Truro Cathedral\, Cornwall\, UK where readings and music are used to tell the stories of the Garden of Eden\, the various prophecies about Jesus\, and the birth of Jesus.\nShare this:\n				Email a link to a friend (Opens in new window)\n				Email\n			\n				Share on Facebook (Opens in new window)\n				Facebook\n			\n				Share on X (Opens in new window)\n				X\n			\n				Share on Pinterest (Opens in new window)\n				Pinterest
URL:https://edwardschurchnorthampton.org/event/festival-of-lessons-and-carols-2/
LOCATION:Edwards Church of Northampton\, 297 Main St.\, Northampton\, MA\, 01060\, United States
CATEGORIES:Choir,Faith Formation,Music
END:VEVENT
BEGIN:VEVENT
DTSTART;TZID=America/New_York:20191215T100000
DTEND;TZID=America/New_York:20191215T110000
DTSTAMP:20260424T113448
CREATED:20191121T135601Z
LAST-MODIFIED:20191121T135601Z
UID:7897-1576404000-1576407600@edwardschurchnorthampton.org
SUMMARY:Nativity Sunday / Christmas Pageant
DESCRIPTION:Join us Sunday\, December 15 at 10 AM for an inter-generational retelling of the narrative of the baby born in Bethlehem.\nShare this:\n				Email a link to a friend (Opens in new window)\n				Email\n			\n				Share on Facebook (Opens in new window)\n				Facebook\n			\n				Share on X (Opens in new window)\n				X\n			\n				Share on Pinterest (Opens in new window)\n				Pinterest
URL:https://edwardschurchnorthampton.org/event/nativity-sunday-christmas-pageant/
LOCATION:Edwards Church of Northampton\, 297 Main St.\, Northampton\, MA\, 01060\, United States
CATEGORIES:Faith Formation
END:VEVENT
BEGIN:VEVENT
DTSTART;TZID=America/New_York:20190923T150000
DTEND;TZID=America/New_York:20190923T160000
DTSTAMP:20260424T113448
CREATED:20190910T142148Z
LAST-MODIFIED:20190910T142852Z
UID:7329-1569250800-1569254400@edwardschurchnorthampton.org
SUMMARY:Autumnal Equinox Labyrinth Walk
DESCRIPTION:All are invited to come celebrate the Autumnal Equinox and walk the Labyrinth on Monday\, September 23\, 2019 at 3:00 p.m. in Addis Hall.  The labyrinth is an ancient spiritual practice used by many faith and spiritual traditions.  This spiritual practice is a form of body prayer which offers inspiration\, guidance\, meditation\, contemplation\, relaxation\, clarification\, wholeness\, and healing for many.  The labyrinth is not a maze. The three basic stages to this contemplative walk are:  entering or walking into the labyrinth – a time to let go of distractions; centering – a time in the center to be still and silent to listen for God; exiting from the center – a time to gain direction\, comfort\, new energy – a time to move toward peace and a deeper relationship with the Divine. \n  \nShare this:\n				Email a link to a friend (Opens in new window)\n				Email\n			\n				Share on Facebook (Opens in new window)\n				Facebook\n			\n				Share on X (Opens in new window)\n				X\n			\n				Share on Pinterest (Opens in new window)\n				Pinterest
URL:https://edwardschurchnorthampton.org/event/autumnal-equinox-labyrinth-walk/
LOCATION:Edwards Church of Northampton\, 297 Main St.\, Northampton\, MA\, 01060\, United States
CATEGORIES:Faith Formation
END:VEVENT
BEGIN:VEVENT
DTSTART;TZID=America/New_York:20190620T190000
DTEND;TZID=America/New_York:20190620T200000
DTSTAMP:20260424T113448
CREATED:20190516T142522Z
LAST-MODIFIED:20190517T124646Z
UID:6125-1561057200-1561060800@edwardschurchnorthampton.org
SUMMARY:Summer Solstice Labyrinth Walk
DESCRIPTION:All are invited to come celebrate the Summer Solstice and walk the Labyrinth on Thursday\, June 20\, 2019 at 7:00 p.m. in Addis Hall.  The labyrinth is an ancient spiritual practice used by many faith and spiritual traditions.  This spiritual practice is a form of body prayer which offers inspiration\, guidance\, meditation\, contemplation\, relaxation\, clarification\, wholeness\, and healing for many.  The labyrinth is not a maze. The three basic stages to this contemplative walk are:  entering or walking into the labyrinth – a time to let go of distractions; centering – a time in the center to be still and silent to listen for God; exiting from the center – a time to gain direction\, comfort\, new energy – a time to move toward peace and a deeper relationship with the Divine. \nShare this:\n				Email a link to a friend (Opens in new window)\n				Email\n			\n				Share on Facebook (Opens in new window)\n				Facebook\n			\n				Share on X (Opens in new window)\n				X\n			\n				Share on Pinterest (Opens in new window)\n				Pinterest
URL:https://edwardschurchnorthampton.org/event/summer-solstice-labyrinth-walk/
LOCATION:Edwards Church of Northampton\, 297 Main St.\, Northampton\, MA\, 01060\, United States
CATEGORIES:Faith Formation
ORGANIZER;CN="Edwards Church of Northampton":MAILTO:info@edwardschurchnorthampton.org
END:VEVENT
BEGIN:VEVENT
DTSTART;TZID=America/New_York:20190418T180000
DTEND;TZID=America/New_York:20190418T193000
DTSTAMP:20260424T113448
CREATED:20190415T145856Z
LAST-MODIFIED:20190415T145856Z
UID:5807-1555610400-1555615800@edwardschurchnorthampton.org
SUMMARY:Maundy Thursday Potluck Supper and Communion
DESCRIPTION:Maundy Thursday Potluck Supper and Communion in Addis Hall. \nFor the potluck supper\, bring whatever you are moved to share. If you run out of time and do not have a dish\, come anyway.  We are so blessed; there is always enough. \nShare this:\n				Email a link to a friend (Opens in new window)\n				Email\n			\n				Share on Facebook (Opens in new window)\n				Facebook\n			\n				Share on X (Opens in new window)\n				X\n			\n				Share on Pinterest (Opens in new window)\n				Pinterest
URL:https://edwardschurchnorthampton.org/event/maundy-thursday-potluck-supper-and-communion/
LOCATION:Edwards Church of Northampton\, 297 Main St.\, Northampton\, MA\, 01060\, United States
CATEGORIES:Faith Formation
END:VEVENT
BEGIN:VEVENT
DTSTART;TZID=America/New_York:20190306T190000
DTEND;TZID=America/New_York:20190306T200000
DTSTAMP:20260424T113448
CREATED:20190304T171140Z
LAST-MODIFIED:20190304T171140Z
UID:5292-1551898800-1551902400@edwardschurchnorthampton.org
SUMMARY:Ash Wednesday
DESCRIPTION:Wednesday\, March 6 is Ash Wednesday\, the first day of the season of Lent. Please join us for a quiet\, reflective service including scripture\, prayer and music at 7 PM. Rev. Todd Weir of First Churches\, will lead the service. \nAshes will be offered\, to be placed either on your forehead or the back of a hand\, but you need not receive ashes to participate in this worship. Come\, enter the season in prayer. \nShare this:\n				Email a link to a friend (Opens in new window)\n				Email\n			\n				Share on Facebook (Opens in new window)\n				Facebook\n			\n				Share on X (Opens in new window)\n				X\n			\n				Share on Pinterest (Opens in new window)\n				Pinterest
URL:https://edwardschurchnorthampton.org/event/ash-wednesday-2/
LOCATION:Edwards Church of Northampton\, 297 Main St.\, Northampton\, MA\, 01060\, United States
CATEGORIES:Faith Formation
ORGANIZER;CN="Edwards Church of Northampton":MAILTO:info@edwardschurchnorthampton.org
END:VEVENT
BEGIN:VEVENT
DTSTART;TZID=America/New_York:20181118T160000
DTEND;TZID=America/New_York:20181118T173000
DTSTAMP:20260424T113448
CREATED:20181015T134258Z
LAST-MODIFIED:20181015T144737Z
UID:3690-1542556800-1542562200@edwardschurchnorthampton.org
SUMMARY:Compassion for Ourselves: A spiritual journey - Edwards Church Mindfulness Practice Group
DESCRIPTION:What would it be like to have a kinder\, gentler\, more spacious heart and mind?  And what if we were able to bring that kind of presence to the relationship we have with ourselves? \nMost of us find it easier to feel compassion for others than for ourselves.  But boundless compassion\, or true love\, comes from a self-compassionate heart\, not one that is guided by self-blame and judgment \nYou are invited to join us for a mindfulness group where we will explore skillful and healing ways to respond *to ourselves* when we encounter life’s inevitable painful experiences. \nIf you would like to attend\, please contact Linda Vincent or Deb Moore \nShare this:\n				Email a link to a friend (Opens in new window)\n				Email\n			\n				Share on Facebook (Opens in new window)\n				Facebook\n			\n				Share on X (Opens in new window)\n				X\n			\n				Share on Pinterest (Opens in new window)\n				Pinterest
URL:https://edwardschurchnorthampton.org/event/compassion-for-ourselves-a-spiritual-journey-edwards-church-mindfulness-practice-group/
LOCATION:MA
CATEGORIES:Faith Formation
END:VEVENT
BEGIN:VEVENT
DTSTART;TZID=America/New_York:20181021T160000
DTEND;TZID=America/New_York:20181021T173000
DTSTAMP:20260424T113448
CREATED:20180927T153643Z
LAST-MODIFIED:20180927T154613Z
UID:3639-1540137600-1540143000@edwardschurchnorthampton.org
SUMMARY:THE ROAD HOME A SPIRITUAL PILGRIMAGE TO THE SOUTH with Kate Stevens
DESCRIPTION:THE ROAD HOME\nA SPIRITUAL PILGRIMAGE TO THE SOUTH\nwith Kate Stevens\nOctober 21 ~ 4-5:30 p.m. \nEdwards Church of Northampton \n297 Main Street \nNorthampton\, MA \n  \nThough this country prides itself on principles of democracy and justice for all\, in actuality the U.S. was founded on the practices of genocide and slavery. Stevens\, who recently undertook a three-month\, 6\,000 mile pilgrimage to the Southern states to better understand our racial history\, uses pictures and words to follow the history of Africans brought to this land by force—a history of slavery\, war\, racial violence\, segregation\, and now mass incarceration. This history\, while devastating\, is also a story of resistance and determination. Please join us\, and share in this conversation. Sponsored by the Board of Faith Formation. \n  \nFREE and OPEN TO THE PUBLIC\n  \n  \nShare this:\n				Email a link to a friend (Opens in new window)\n				Email\n			\n				Share on Facebook (Opens in new window)\n				Facebook\n			\n				Share on X (Opens in new window)\n				X\n			\n				Share on Pinterest (Opens in new window)\n				Pinterest
URL:https://edwardschurchnorthampton.org/event/the-road-home-a-spiritual-pilgrimage-to-the-south-with-kate-stevens/
LOCATION:Edwards Church of Northampton\, 297 Main St.\, Northampton\, MA\, 01060\, United States
CATEGORIES:Faith Formation
END:VEVENT
BEGIN:VEVENT
DTSTART;TZID=America/New_York:20180923T150000
DTEND;TZID=America/New_York:20180923T160000
DTSTAMP:20260424T113448
CREATED:20180306T141123Z
LAST-MODIFIED:20180711T161637Z
UID:3221-1537714800-1537718400@edwardschurchnorthampton.org
SUMMARY:Labyrinth Walk
DESCRIPTION:All are invited to come and walk the Labyrinth on Sunday\, September 23\, 2018 at 3:00 p.m. in Addis Hall.  The labyrinth is an ancient spiritual practice used by many faith and spiritual traditions.  This spiritual practice is a form of body prayer which offers inspiration\, guidance\, meditation\, contemplation\, relaxation\, clarification\, wholeness\, and healing for many.  The labyrinth is not a maze. The three basic stages to this contemplative walk are:  entering or walking into the labyrinth – a time to let go of distractions; centering – a time in the center to be still and silent to listen for God; exiting from the center – a time to gain direction\, comfort\, new energy – a time to move toward peace and a deeper relationship with the Divine. \nShare this:\n				Email a link to a friend (Opens in new window)\n				Email\n			\n				Share on Facebook (Opens in new window)\n				Facebook\n			\n				Share on X (Opens in new window)\n				X\n			\n				Share on Pinterest (Opens in new window)\n				Pinterest
URL:https://edwardschurchnorthampton.org/event/labyrinth-walk-2-2018-09-23/
LOCATION:Edwards Church of Northampton\, 297 Main St.\, Northampton\, MA\, 01060\, United States
CATEGORIES:Faith Formation
END:VEVENT
BEGIN:VEVENT
DTSTART;TZID=America/New_York:20180506T160000
DTEND;TZID=America/New_York:20180506T173000
DTSTAMP:20260424T113448
CREATED:20180306T135352Z
LAST-MODIFIED:20180306T135526Z
UID:3213-1525622400-1525627800@edwardschurchnorthampton.org
SUMMARY:Resting in the Breath:  Healing Practice for Mind and Body
DESCRIPTION:Spring 2018 MINDFULNESS \nResting in the Breath:  Healing Practice for Mind and Body \nMAY 6\, 2018 \n4:00 to 5:30 p.m. \nOur daily lives are made up of times of being awake and of times of being asleep\, but what about resting?  In our busy lives\, do we know how to rest?  And further\, even after sleeping\, why is it that sometimes we do not feel rested? \nYou are invited to join our mindfulness group this spring as we explore “resting in the breath\,” a mindfulness practice that teaches us how to breathe with awareness\, how to calm our body and mind\, and how to rest there.  This is a beautiful\, ancient\, and practical practice that can guide sitting or walking meditation\, and it can also offer us rest in moments throughout the day or night. \nThis mindfulness group is open to those who are experienced in meditation as well as to those who are complete beginners.  The group welcomes youth who are in sixth grade and above as well as adults of all ages.  We will meet in the chancel area of Edwards Church.  Linda Vincent will be facilitating. \nIf you are interested\, please contact Linda Vincent or Deb Moore. \nShare this:\n				Email a link to a friend (Opens in new window)\n				Email\n			\n				Share on Facebook (Opens in new window)\n				Facebook\n			\n				Share on X (Opens in new window)\n				X\n			\n				Share on Pinterest (Opens in new window)\n				Pinterest
URL:https://edwardschurchnorthampton.org/event/resting-breath-healing-practice-mind-body/
LOCATION:Edwards Church of Northampton\, 297 Main St.\, Northampton\, MA\, 01060\, United States
CATEGORIES:Faith Formation
END:VEVENT
BEGIN:VEVENT
DTSTART;TZID=America/New_York:20180320T190000
DTEND;TZID=America/New_York:20180320T200000
DTSTAMP:20260424T113448
CREATED:20180306T141123Z
LAST-MODIFIED:20180306T141137Z
UID:3219-1521572400-1521576000@edwardschurchnorthampton.org
SUMMARY:Labyrinth Walk
DESCRIPTION:All are invited to come and walk the Labyrinth on March 20\, 2018 at 7:00 p.m. and September 23\, 2018 at 3:00 p.m. in Addis Hall.  The labyrinth is an ancient spiritual practice used by many faith and spiritual traditions.  This spiritual practice is a form of body prayer which offers inspiration\, guidance\, meditation\, contemplation\, relaxation\, clarification\, wholeness\, and healing for many.  The labyrinth is not a maze. The three basic stages to this contemplative walk are:  entering or walking into the labyrinth – a time to let go of distractions; centering – a time in the center to be still and silent to listen for God; exiting from the center – a time to gain direction\, comfort\, new energy – a time to move toward peace and a deeper relationship with the Divine. \nShare this:\n				Email a link to a friend (Opens in new window)\n				Email\n			\n				Share on Facebook (Opens in new window)\n				Facebook\n			\n				Share on X (Opens in new window)\n				X\n			\n				Share on Pinterest (Opens in new window)\n				Pinterest
URL:https://edwardschurchnorthampton.org/event/labyrinth-walk-2/
LOCATION:Edwards Church of Northampton\, 297 Main St.\, Northampton\, MA\, 01060\, United States
CATEGORIES:Faith Formation
END:VEVENT
BEGIN:VEVENT
DTSTART;TZID=America/New_York:20170319T160000
DTEND;TZID=America/New_York:20170319T173000
DTSTAMP:20260424T113448
CREATED:20170309T174605Z
LAST-MODIFIED:20170309T174943Z
UID:2284-1489939200-1489944600@edwardschurchnorthampton.org
SUMMARY:Book Discussion:  Christians at the Border: Immigration\, the Church\, & and the Bible
DESCRIPTION:Christians at the Border: Immigration\, the Church\, & and the Bible by M. Daniel Carroll. In this second edition of his book\, Daniel states: “this book is a modest attempt to provide a solid foundation for a truly Christian perspective on immigration; a primer for a more biblically and theologically informed approach to the issue of immigration.” \nDates and times for this book discussion: \nSunday 3/19 (pages 1 – 74)  4-5:30 p.m. in the Edwards Room \nSunday 4/2   (pages 75-139)  4-5:30 p.m. in the Edwards Room \nPlease let Deb Moore know if you would like to join in some good discussion and fellowship around this book. \nShare this:\n				Email a link to a friend (Opens in new window)\n				Email\n			\n				Share on Facebook (Opens in new window)\n				Facebook\n			\n				Share on X (Opens in new window)\n				X\n			\n				Share on Pinterest (Opens in new window)\n				Pinterest
URL:https://edwardschurchnorthampton.org/event/book-discussion-christians-border-immigration-church-bible/
LOCATION:Edwards Church of Northampton\, 297 Main St.\, Northampton\, MA\, 01060\, United States
CATEGORIES:Faith Formation
END:VEVENT
BEGIN:VEVENT
DTSTART;TZID=America/New_York:20160913T160000
DTEND;TZID=America/New_York:20160913T173000
DTSTAMP:20260424T113448
CREATED:20160909T170527Z
LAST-MODIFIED:20161215T143434Z
UID:1774-1473782400-1473787800@edwardschurchnorthampton.org
SUMMARY:Prayer Shawl Ministry
DESCRIPTION:The Prayer Shawl group meets on the 2nd and 4th Tuesday of the month in the Edwards Room to knit\, crochet or weave prayer shawls which are blessed by the congregation upon completion. All are welcome to attend — new and experienced knitters and crocheters alike! \n  \nShare this:\n				Email a link to a friend (Opens in new window)\n				Email\n			\n				Share on Facebook (Opens in new window)\n				Facebook\n			\n				Share on X (Opens in new window)\n				X\n			\n				Share on Pinterest (Opens in new window)\n				Pinterest
URL:https://edwardschurchnorthampton.org/event/prayer-shawl-ministry/
LOCATION:Edwards Church of Northampton\, 297 Main St.\, Northampton\, MA\, 01060\, United States
CATEGORIES:Faith Formation
END:VEVENT
BEGIN:VEVENT
DTSTART;TZID=America/New_York:20160626T120000
DTEND;TZID=America/New_York:20160626T120000
DTSTAMP:20260424T113448
CREATED:20160609T141504Z
LAST-MODIFIED:20160609T141852Z
UID:1614-1466942400-1466942400@edwardschurchnorthampton.org
SUMMARY:Summer Kick-Off Party
DESCRIPTION:Come join the Board on Faith Formation for a friendly game of pick up soccer and a hop on the bounce house on Sunday\, June 26! The family fun will get underway at high noon\, and the grill will be fired up at 1 o’clock. Hot dogs and a garden salad\, drinks\, and laughs will be supplied. Feel free to bring a side dish or something for the grill if you want – and don’t forget your sneakers! No worries if you are not a soccer star\, it’s all for fun – or socialization! Please RSVP: Melissa 695-7728 or mmattison@wne.edu \nShare this:\n				Email a link to a friend (Opens in new window)\n				Email\n			\n				Share on Facebook (Opens in new window)\n				Facebook\n			\n				Share on X (Opens in new window)\n				X\n			\n				Share on Pinterest (Opens in new window)\n				Pinterest
URL:https://edwardschurchnorthampton.org/event/summer-kick-off-party/
LOCATION:MA
CATEGORIES:Faith Formation
END:VEVENT
BEGIN:VEVENT
DTSTART;TZID=America/New_York:20160615T190000
DTEND;TZID=America/New_York:20160615T203000
DTSTAMP:20260424T113448
CREATED:20160527T134740Z
LAST-MODIFIED:20160527T141628Z
UID:1475-1466017200-1466022600@edwardschurchnorthampton.org
SUMMARY:Interfaith Iftar
DESCRIPTION:The Islamic Society of Western Mass invites friends and colleagues from all faiths to celebrate an interfaith iftaf (breaking of fast) at the Islamic Center\, 377 Amostown Rd.\, West Springfield\, MA. \nPROGRAM : \n7:00 p.m. Reception and Welcome \n7:15 p.m.  Reflections and Dialogue \n8:27 p.m. Iftar (Breaking of Fast at Sunset) \nFollowed by Prayer and Dinner \nPRE-REGISTRATION  WILL BE APPRECIATED   : \nCall and leave a message at 413 788 -7546 \nOr email to : Masjidma@gmail.com \n  \nShare this:\n				Email a link to a friend (Opens in new window)\n				Email\n			\n				Share on Facebook (Opens in new window)\n				Facebook\n			\n				Share on X (Opens in new window)\n				X\n			\n				Share on Pinterest (Opens in new window)\n				Pinterest
URL:https://edwardschurchnorthampton.org/event/interfaith-iftar/
LOCATION:MA
CATEGORIES:Faith Formation
END:VEVENT
BEGIN:VEVENT
DTSTART;TZID=America/New_York:20160523T190000
DTEND;TZID=America/New_York:20160523T203000
DTSTAMP:20260424T113448
CREATED:20160505T144520Z
LAST-MODIFIED:20180208T164051Z
UID:1266-1464030000-1464035400@edwardschurchnorthampton.org
SUMMARY:Labyrinth Walk
DESCRIPTION:All are invited to come and walk the Labyrinth on the 4th Monday of the month at 7:00 p.m. in Addis Hall.  The labyrinth is an ancient spiritual practice used by many faith and spiritual traditions.  This spiritual practice is a form of body prayer which offers inspiration\, guidance\, meditation\, contemplation\, relaxation\, clarification\, wholeness\, and healing for many. \nShare this:\n				Email a link to a friend (Opens in new window)\n				Email\n			\n				Share on Facebook (Opens in new window)\n				Facebook\n			\n				Share on X (Opens in new window)\n				X\n			\n				Share on Pinterest (Opens in new window)\n				Pinterest
URL:https://edwardschurchnorthampton.org/event/labyrinth-walk/
LOCATION:Edwards Church of Northampton\, 297 Main St.\, Northampton\, MA\, 01060\, United States
CATEGORIES:Faith Formation
END:VEVENT
BEGIN:VEVENT
DTSTART;TZID=America/New_York:20160522T120000
DTEND;TZID=America/New_York:20160522T120000
DTSTAMP:20260424T113448
CREATED:20160505T155405Z
LAST-MODIFIED:20160505T155415Z
UID:1303-1463918400-1463918400@edwardschurchnorthampton.org
SUMMARY:Pizza with Brian Lapis
DESCRIPTION:Join us in Addis Hall to enjoy pizza\, games & more as we learn about Silver Lake Conference Center Summer Camps with Brian Lapis of 22News! \nShare this:\n				Email a link to a friend (Opens in new window)\n				Email\n			\n				Share on Facebook (Opens in new window)\n				Facebook\n			\n				Share on X (Opens in new window)\n				X\n			\n				Share on Pinterest (Opens in new window)\n				Pinterest
URL:https://edwardschurchnorthampton.org/event/pizza-brian-lapis/
LOCATION:Edwards Church of Northampton\, 297 Main St.\, Northampton\, MA\, 01060\, United States
CATEGORIES:Faith Formation
END:VEVENT
BEGIN:VEVENT
DTSTART;TZID=America/New_York:20160521T160000
DTEND;TZID=America/New_York:20160521T173000
DTSTAMP:20260424T113448
CREATED:20160404T170253Z
LAST-MODIFIED:20160404T170504Z
UID:857-1463846400-1463851800@edwardschurchnorthampton.org
SUMMARY:Intergenerational Mindfulness: Finding Calm within a Busy Family
DESCRIPTION:A gathering for children (up to age 12) and their families in the Edwards Room to introduce mindfulness practices of breathing\, walking and eating.  Linda Vincent is the facilitator for this event which will be followed by a potluck dinner in Addis Hall.  Please contact Deb Moore for more information. \nShare this:\n				Email a link to a friend (Opens in new window)\n				Email\n			\n				Share on Facebook (Opens in new window)\n				Facebook\n			\n				Share on X (Opens in new window)\n				X\n			\n				Share on Pinterest (Opens in new window)\n				Pinterest
URL:https://edwardschurchnorthampton.org/event/forming-faith/
LOCATION:Edwards Church of Northampton\, 297 Main St.\, Northampton\, MA\, 01060\, United States
CATEGORIES:Faith Formation
END:VEVENT
BEGIN:VEVENT
DTSTART;TZID=America/New_York:20160516T120000
DTEND;TZID=America/New_York:20160516T133000
DTSTAMP:20260424T113448
CREATED:20160505T143905Z
LAST-MODIFIED:20160505T143959Z
UID:1260-1463400000-1463405400@edwardschurchnorthampton.org
SUMMARY:"The Wisdom of Faith" Film Series
DESCRIPTION:Join us for this five part mini-series with Bill Moyers and Houston Smith\, which explores Hinduism\, Buddhism\, Confucianism\, Christianity\, Judaism\, and Islam. \nMondays: noon – 1:30 p.m.  May 16 & 23\, June 6\, 13\, 20 \nShare this:\n				Email a link to a friend (Opens in new window)\n				Email\n			\n				Share on Facebook (Opens in new window)\n				Facebook\n			\n				Share on X (Opens in new window)\n				X\n			\n				Share on Pinterest (Opens in new window)\n				Pinterest
URL:https://edwardschurchnorthampton.org/event/wisdom-faith-film-series-2/
LOCATION:Edwards Church of Northampton\, 297 Main St.\, Northampton\, MA\, 01060\, United States
CATEGORIES:Faith Formation
END:VEVENT
BEGIN:VEVENT
DTSTART;TZID=America/New_York:20160510T190000
DTEND;TZID=America/New_York:20160510T203000
DTSTAMP:20260424T113448
CREATED:20160505T143352Z
LAST-MODIFIED:20160609T140645Z
UID:1255-1462906800-1462912200@edwardschurchnorthampton.org
SUMMARY:"The Wisdom of Faith" Film Series
DESCRIPTION:Join us for this five part mini-series with Bill Moyers and Houston Smith\, which explores Hinduism\, Buddhism\, Confucianism\, Christianity\, Judaism\, and Islam.\nTuesdays: 7 – 8:30 p.m. May 10\, 24\, 31\, June 7 \nShare this:\n				Email a link to a friend (Opens in new window)\n				Email\n			\n				Share on Facebook (Opens in new window)\n				Facebook\n			\n				Share on X (Opens in new window)\n				X\n			\n				Share on Pinterest (Opens in new window)\n				Pinterest
URL:https://edwardschurchnorthampton.org/event/wisdom-faith-film-series/
LOCATION:Edwards Church of Northampton\, 297 Main St.\, Northampton\, MA\, 01060\, United States
CATEGORIES:Faith Formation
END:VEVENT
BEGIN:VEVENT
DTSTART;TZID=America/New_York:20160415T190000
DTEND;TZID=America/New_York:20160416T080000
DTSTAMP:20260424T113448
CREATED:20160404T182543Z
LAST-MODIFIED:20160412T134657Z
UID:870-1460746800-1460793600@edwardschurchnorthampton.org
SUMMARY:Youth Group Overnight
DESCRIPTION:Youth Group overnight at the church!  Please plan to arrive by 7:15.  Movie & discussion\, games\, labyrinth walk\, food and fellowship. \n  \nShare this:\n				Email a link to a friend (Opens in new window)\n				Email\n			\n				Share on Facebook (Opens in new window)\n				Facebook\n			\n				Share on X (Opens in new window)\n				X\n			\n				Share on Pinterest (Opens in new window)\n				Pinterest
URL:https://edwardschurchnorthampton.org/event/forming-faith-2/
LOCATION:MA
CATEGORIES:Faith Formation
END:VEVENT
END:VCALENDAR